BEGIN:VCALENDAR
VERSION:2.0
PRODID:-//Appleseed México - ECPv5.3.2.1//NONSGML v1.0//EN
CALSCALE:GREGORIAN
METHOD:PUBLISH
X-WR-CALNAME:Appleseed México
X-ORIGINAL-URL:https://appleseedmexico.org
X-WR-CALDESC:Eventos para Appleseed México
BEGIN:VTIMEZONE
TZID:America/Mexico_City
BEGIN:DAYLIGHT
TZOFFSETFROM:-0600
TZOFFSETTO:-0500
TZNAME:CDT
DTSTART:20250406T080000
END:DAYLIGHT
BEGIN:STANDARD
TZOFFSETFROM:-0500
TZOFFSETTO:-0600
TZNAME:CST
DTSTART:20251026T070000
END:STANDARD
END:VTIMEZONE
BEGIN:VEVENT
DTSTART;VALUE=DATE:20251217
DTEND;VALUE=DATE:20251218
DTSTAMP:20260421T054901
CREATED:20250204T053008Z
LAST-MODIFIED:20250204T053008Z
UID:96160-1765929600-1766015999@appleseedmexico.org
SUMMARY:Retenciones de IVA e ISR
DESCRIPTION:¡Recordatorio importante!\nRetenciones de IVA e ISR\nMás información: Ver Calendario Anual 2025   \n 
URL:https://appleseedmexico.org/evento/retenciones-de-iva-e-isr-2/2025-12-17/
CATEGORIES:Calendario Interactivo,Calendario Fiscal,Obligaciones Permanentes
ATTACH;FMTTYPE=image/jpeg:https://appleseedmexico.org/wp-content/uploads/2024/01/obligacionespermanentes.jpg
END:VEVENT
BEGIN:VEVENT
DTSTART;VALUE=DATE:20251217
DTEND;VALUE=DATE:20251218
DTSTAMP:20260421T054901
CREATED:20250204T053344Z
LAST-MODIFIED:20250204T053344Z
UID:96173-1765929600-1766015999@appleseedmexico.org
SUMMARY:Enterar al SAT
DESCRIPTION:¡Recordatorio importante!\nEnterar al SAT de Retenciones de ISR por sueldos\, salarios y asimilados.\nMás información: Ver Calendario Anual 2025  
URL:https://appleseedmexico.org/evento/enterar-al-sat-2/2025-12-17/
CATEGORIES:Calendario Interactivo,Calendario Fiscal,Obligaciones Permanentes
ATTACH;FMTTYPE=image/jpeg:https://appleseedmexico.org/wp-content/uploads/2024/01/obligacionespermanentes.jpg
END:VEVENT
BEGIN:VEVENT
DTSTART;VALUE=DATE:20251217
DTEND;VALUE=DATE:20251218
DTSTAMP:20260421T054901
CREATED:20250204T053724Z
LAST-MODIFIED:20250204T053724Z
UID:96186-1765929600-1766015999@appleseedmexico.org
SUMMARY:Informe de Operaciones hechas con partes relacionadas
DESCRIPTION:¡Recordatorio importante!\nInforme de Operaciones hechas con partes relacionadas.\nMás información: Ver Calendario Anual 2025  
URL:https://appleseedmexico.org/evento/informe-de-operaciones-hechas-con-partes-relacionadas-2/2025-12-17/
CATEGORIES:Calendario Interactivo,Calendario Fiscal,Obligaciones Permanentes
ATTACH;FMTTYPE=image/jpeg:https://appleseedmexico.org/wp-content/uploads/2024/01/obligacionespermanentes.jpg
END:VEVENT
BEGIN:VEVENT
DTSTART;VALUE=DATE:20251217
DTEND;VALUE=DATE:20251218
DTSTAMP:20260421T054901
CREATED:20250204T054010Z
LAST-MODIFIED:20250204T054010Z
UID:96198-1765929600-1766015999@appleseedmexico.org
SUMMARY:Informar al SAT
DESCRIPTION:¡Recordatorio importante!\nDe donativos en efectivo o especie que superen más de 100 mil pesos.\nMás información: Ver Calendario Anual 2025  
URL:https://appleseedmexico.org/evento/informar-al-sat-3/2025-12-17/
CATEGORIES:Calendario Interactivo,Calendario Fiscal,Obligaciones Permanentes
ATTACH;FMTTYPE=image/jpeg:https://appleseedmexico.org/wp-content/uploads/2024/01/donatarias_autorizadas.jpg
END:VEVENT
END:VCALENDAR