BEGIN:VCALENDAR
VERSION:2.0
PRODID:-//Appleseed México - ECPv5.3.2.1//NONSGML v1.0//EN
CALSCALE:GREGORIAN
METHOD:PUBLISH
X-WR-CALNAME:Appleseed México
X-ORIGINAL-URL:https://appleseedmexico.org
X-WR-CALDESC:Eventos para Appleseed México
BEGIN:VTIMEZONE
TZID:America/Mexico_City
BEGIN:DAYLIGHT
TZOFFSETFROM:-0600
TZOFFSETTO:-0500
TZNAME:CDT
DTSTART:20250406T080000
END:DAYLIGHT
BEGIN:STANDARD
TZOFFSETFROM:-0500
TZOFFSETTO:-0600
TZNAME:CST
DTSTART:20251026T070000
END:STANDARD
END:VTIMEZONE
BEGIN:VEVENT
DTSTART;TZID=America/Mexico_City:20251007T100000
DTEND;TZID=America/Mexico_City:20251007T113000
DTSTAMP:20260421T050937
CREATED:20250929T184446Z
LAST-MODIFIED:20250929T184446Z
UID:96680-1759831200-1759836600@appleseedmexico.org
SUMMARY:Capacitación: Litigio Estratégico y Derechos Humanos
DESCRIPTION:Brindada por Alonso Velázquez abogado en Jones Day
URL:https://appleseedmexico.org/evento/capacitacion-litigio-estrategico-y-derechos-humanos/
CATEGORIES:Capacitaciones,Webinar
END:VEVENT
BEGIN:VEVENT
DTSTART;TZID=America/Mexico_City:20251009T090000
DTEND;TZID=America/Mexico_City:20251009T103000
DTSTAMP:20260421T050937
CREATED:20250929T185419Z
LAST-MODIFIED:20250929T185419Z
UID:96683-1760000400-1760005800@appleseedmexico.org
SUMMARY:Capacitación: Procedimientos del Código Nacional de Procedimientos Civiles y Familiares útiles para las OSC
DESCRIPTION:Brindado por Mario Andrés Sánchez Curiel Loyo de la firma legal García Alcocer
URL:https://appleseedmexico.org/evento/capacitacion-procedimientos-del-codigo-nacional-de-procedimientos-civiles-y-familiares-utiles-para-las-osc/
CATEGORIES:Capacitaciones,Webinar
END:VEVENT
BEGIN:VEVENT
DTSTART;TZID=America/Mexico_City:20251014T100000
DTEND;TZID=America/Mexico_City:20251014T120000
DTSTAMP:20260421T050937
CREATED:20250929T185604Z
LAST-MODIFIED:20250929T185604Z
UID:96686-1760436000-1760443200@appleseedmexico.org
SUMMARY:Capacitación: Litigio en Defensa del Medio Ambiente
DESCRIPTION:Brindado por Alberto Medellín abogado en Santos Elizondo
URL:https://appleseedmexico.org/evento/capacitacion-litigio-en-defensa-del-medio-ambiente/
CATEGORIES:Capacitaciones,Webinar
END:VEVENT
BEGIN:VEVENT
DTSTART;TZID=America/Mexico_City:20251016T100000
DTEND;TZID=America/Mexico_City:20251016T110000
DTSTAMP:20260421T050937
CREATED:20250929T193014Z
LAST-MODIFIED:20250929T193014Z
UID:96706-1760608800-1760612400@appleseedmexico.org
SUMMARY:Capacitación: Martes del Ecosistema Pro Bono - Contabilidad Electrónica para OSC
DESCRIPTION:Brindado por Juan Carlos Álvarez\, aliado de la Red Pro Bono México de Appleseed
URL:https://appleseedmexico.org/evento/capacitacion-martes-del-ecosistema-pro-bono-contabilidad-electronica-para-osc/
CATEGORIES:Capacitaciones,Webinar
END:VEVENT
BEGIN:VEVENT
DTSTART;VALUE=DATE:20251017
DTEND;VALUE=DATE:20251018
DTSTAMP:20260421T050937
CREATED:20250204T053008Z
LAST-MODIFIED:20250204T053008Z
UID:96158-1760659200-1760745599@appleseedmexico.org
SUMMARY:Retenciones de IVA e ISR
DESCRIPTION:¡Recordatorio importante!\nRetenciones de IVA e ISR\nMás información: Ver Calendario Anual 2025   \n 
URL:https://appleseedmexico.org/evento/retenciones-de-iva-e-isr-2/2025-10-17/
CATEGORIES:Obligaciones Permanentes,Calendario Interactivo,Calendario Fiscal
ATTACH;FMTTYPE=image/jpeg:https://appleseedmexico.org/wp-content/uploads/2024/01/obligacionespermanentes.jpg
END:VEVENT
BEGIN:VEVENT
DTSTART;VALUE=DATE:20251017
DTEND;VALUE=DATE:20251018
DTSTAMP:20260421T050937
CREATED:20250204T053344Z
LAST-MODIFIED:20250204T053344Z
UID:96171-1760659200-1760745599@appleseedmexico.org
SUMMARY:Enterar al SAT
DESCRIPTION:¡Recordatorio importante!\nEnterar al SAT de Retenciones de ISR por sueldos\, salarios y asimilados.\nMás información: Ver Calendario Anual 2025  
URL:https://appleseedmexico.org/evento/enterar-al-sat-2/2025-10-17/
CATEGORIES:Obligaciones Permanentes,Calendario Interactivo,Calendario Fiscal
ATTACH;FMTTYPE=image/jpeg:https://appleseedmexico.org/wp-content/uploads/2024/01/obligacionespermanentes.jpg
END:VEVENT
BEGIN:VEVENT
DTSTART;VALUE=DATE:20251017
DTEND;VALUE=DATE:20251018
DTSTAMP:20260421T050937
CREATED:20250204T053724Z
LAST-MODIFIED:20250204T053724Z
UID:96184-1760659200-1760745599@appleseedmexico.org
SUMMARY:Informe de Operaciones hechas con partes relacionadas
DESCRIPTION:¡Recordatorio importante!\nInforme de Operaciones hechas con partes relacionadas.\nMás información: Ver Calendario Anual 2025  
URL:https://appleseedmexico.org/evento/informe-de-operaciones-hechas-con-partes-relacionadas-2/2025-10-17/
CATEGORIES:Obligaciones Permanentes,Calendario Interactivo,Calendario Fiscal
ATTACH;FMTTYPE=image/jpeg:https://appleseedmexico.org/wp-content/uploads/2024/01/obligacionespermanentes.jpg
END:VEVENT
BEGIN:VEVENT
DTSTART;VALUE=DATE:20251017
DTEND;VALUE=DATE:20251018
DTSTAMP:20260421T050937
CREATED:20250204T054010Z
LAST-MODIFIED:20250204T054010Z
UID:96196-1760659200-1760745599@appleseedmexico.org
SUMMARY:Informar al SAT
DESCRIPTION:¡Recordatorio importante!\nDe donativos en efectivo o especie que superen más de 100 mil pesos.\nMás información: Ver Calendario Anual 2025  
URL:https://appleseedmexico.org/evento/informar-al-sat-3/2025-10-17/
CATEGORIES:Obligaciones Permanentes,Calendario Interactivo,Calendario Fiscal
ATTACH;FMTTYPE=image/jpeg:https://appleseedmexico.org/wp-content/uploads/2024/01/donatarias_autorizadas.jpg
END:VEVENT
BEGIN:VEVENT
DTSTART;TZID=America/Mexico_City:20251022T120000
DTEND;TZID=America/Mexico_City:20251022T133000
DTSTAMP:20260421T050937
CREATED:20250929T191814Z
LAST-MODIFIED:20250929T191814Z
UID:96689-1761134400-1761139800@appleseedmexico.org
SUMMARY:Capacitación: Obligaciones de Prevención de Lavado de Dinero para OSC y Reforma 2025
DESCRIPTION:Bajo la iniciativa del Ecosistema Pro Bono N.L. se estará brindando esta capacitación por Alan Manzanares de Contemos Juntos y Nora Pinales del Instituto de Contadores Públicos de N.L.
URL:https://appleseedmexico.org/evento/capacitacion-obligaciones-de-prevencion-de-lavado-de-dinero-para-osc-y-reforma-2025/
CATEGORIES:Capacitaciones,Webinar
END:VEVENT
BEGIN:VEVENT
DTSTART;TZID=America/Mexico_City:20251023T100000
DTEND;TZID=America/Mexico_City:20251023T120000
DTSTAMP:20260421T050937
CREATED:20250930T001044Z
LAST-MODIFIED:20250930T001044Z
UID:96721-1761213600-1761220800@appleseedmexico.org
SUMMARY:Capacitación: ¿Cómo prevenir la Responsabilidad Penal de las OSC?
DESCRIPTION:Brindado por Maria Fernanda Velázquez Espinoza de la firma legal Basham\, Ringe y Correa\, S.C.
URL:https://appleseedmexico.org/evento/capacitacion-como-prevenir-la-responsabilidad-penal-de-las-osc-2/
CATEGORIES:Capacitaciones,Webinar
END:VEVENT
BEGIN:VEVENT
DTSTART;TZID=America/Mexico_City:20251028T100000
DTEND;TZID=America/Mexico_City:20251028T113000
DTSTAMP:20260421T050937
CREATED:20250929T192217Z
LAST-MODIFIED:20250929T192217Z
UID:96692-1761645600-1761651000@appleseedmexico.org
SUMMARY:Capacitación: Acreditación del Interés Legítimo de OSC en Juicios de Amparo
DESCRIPTION:Brindado por Andrés Lieja de la firma legal Jones Day
URL:https://appleseedmexico.org/evento/capacitacion-acreditacion-del-interes-legitimo-de-osc-en-juicios-de-amparo-2/
CATEGORIES:Capacitaciones,Webinar
END:VEVENT
END:VCALENDAR