BEGIN:VCALENDAR
VERSION:2.0
PRODID:-//Appleseed México - ECPv5.3.2.1//NONSGML v1.0//EN
CALSCALE:GREGORIAN
METHOD:PUBLISH
X-WR-CALNAME:Appleseed México
X-ORIGINAL-URL:https://appleseedmexico.org
X-WR-CALDESC:Eventos para Appleseed México
BEGIN:VTIMEZONE
TZID:America/Mexico_City
BEGIN:DAYLIGHT
TZOFFSETFROM:-0600
TZOFFSETTO:-0500
TZNAME:CDT
DTSTART:20250406T080000
END:DAYLIGHT
BEGIN:STANDARD
TZOFFSETFROM:-0500
TZOFFSETTO:-0600
TZNAME:CST
DTSTART:20251026T070000
END:STANDARD
END:VTIMEZONE
BEGIN:VEVENT
DTSTART;VALUE=DATE:20250117
DTEND;VALUE=DATE:20250118
DTSTAMP:20260421T155429
CREATED:20250204T045958Z
LAST-MODIFIED:20250204T045958Z
UID:96113-1737072000-1737158399@appleseedmexico.org
SUMMARY:Informe Anual ante la Comisión de Fomento de las Actividades de las Organizaciones de la Sociedad Civil
DESCRIPTION:¡Recordatorio importante!\nFaltan 14 días para presentar el Informe Anual ante la Comisión de Fomento de las Actividades de las Organizaciones de la Sociedad Civil.\nNotas Relevantes: \n* Obligación para OSC inscritas al Registro Federal de las Organizaciones de la Sociedad Civil (CLUNI). \n* Todas las organizaciones inscritas deben presentar informe\, independientemente de si recibieron o no apoyos y estímulos públicos. \n* Esta obligación es independiente de los informes que se presentan ante el SAT y de los Reportes que solicitan otras instancias de gobierno que hubeiran entregado los apoyos. \nMás información: Ver Calendario Anual 2025   \n 
URL:https://appleseedmexico.org/evento/informe-anual-ante-la-comision-de-fomento-de-las-actividades-de-las-organizaciones-de-la-sociedad-civil-4/
CATEGORIES:Calendario Interactivo,Obligaciones para OSC con CLUNI,Calendario Fiscal
ATTACH;FMTTYPE=image/jpeg:https://appleseedmexico.org/wp-content/uploads/2024/01/obligaciones_portada_osccluni.jpg
END:VEVENT
BEGIN:VEVENT
DTSTART;VALUE=DATE:20250117
DTEND;VALUE=DATE:20250118
DTSTAMP:20260421T155430
CREATED:20250204T053008Z
LAST-MODIFIED:20250204T053008Z
UID:96148-1737072000-1737158399@appleseedmexico.org
SUMMARY:Retenciones de IVA e ISR
DESCRIPTION:¡Recordatorio importante!\nRetenciones de IVA e ISR\nMás información: Ver Calendario Anual 2025   \n 
URL:https://appleseedmexico.org/evento/retenciones-de-iva-e-isr-2/2025-01-17/
CATEGORIES:Obligaciones Permanentes,Calendario Interactivo,Calendario Fiscal
ATTACH;FMTTYPE=image/jpeg:https://appleseedmexico.org/wp-content/uploads/2024/01/obligacionespermanentes.jpg
END:VEVENT
BEGIN:VEVENT
DTSTART;VALUE=DATE:20250117
DTEND;VALUE=DATE:20250118
DTSTAMP:20260421T155430
CREATED:20250204T053344Z
LAST-MODIFIED:20250204T053344Z
UID:95176-1737072000-1737158399@appleseedmexico.org
SUMMARY:Enterar al SAT
DESCRIPTION:¡Recordatorio importante!\nEnterar al SAT de Retenciones de ISR por sueldos\, salarios y asimilados.\nMás información: Ver Calendario Anual 2025  
URL:https://appleseedmexico.org/evento/enterar-al-sat-2/2025-01-17/
CATEGORIES:Obligaciones Permanentes,Calendario Interactivo,Calendario Fiscal
ATTACH;FMTTYPE=image/jpeg:https://appleseedmexico.org/wp-content/uploads/2024/01/obligacionespermanentes.jpg
END:VEVENT
BEGIN:VEVENT
DTSTART;VALUE=DATE:20250117
DTEND;VALUE=DATE:20250118
DTSTAMP:20260421T155430
CREATED:20250204T053724Z
LAST-MODIFIED:20250204T053724Z
UID:96174-1737072000-1737158399@appleseedmexico.org
SUMMARY:Informe de Operaciones hechas con partes relacionadas
DESCRIPTION:¡Recordatorio importante!\nInforme de Operaciones hechas con partes relacionadas.\nMás información: Ver Calendario Anual 2025  
URL:https://appleseedmexico.org/evento/informe-de-operaciones-hechas-con-partes-relacionadas-2/2025-01-17/
CATEGORIES:Obligaciones Permanentes,Calendario Interactivo,Calendario Fiscal
ATTACH;FMTTYPE=image/jpeg:https://appleseedmexico.org/wp-content/uploads/2024/01/obligacionespermanentes.jpg
END:VEVENT
BEGIN:VEVENT
DTSTART;VALUE=DATE:20250117
DTEND;VALUE=DATE:20250118
DTSTAMP:20260421T155430
CREATED:20250204T054010Z
LAST-MODIFIED:20250204T054010Z
UID:96161-1737072000-1737158399@appleseedmexico.org
SUMMARY:Informar al SAT
DESCRIPTION:¡Recordatorio importante!\nDe donativos en efectivo o especie que superen más de 100 mil pesos.\nMás información: Ver Calendario Anual 2025  
URL:https://appleseedmexico.org/evento/informar-al-sat-3/2025-01-17/
CATEGORIES:Obligaciones Permanentes,Calendario Interactivo,Calendario Fiscal
ATTACH;FMTTYPE=image/jpeg:https://appleseedmexico.org/wp-content/uploads/2024/01/donatarias_autorizadas.jpg
END:VEVENT
BEGIN:VEVENT
DTSTART;TZID=America/Mexico_City:20250121T100000
DTEND;TZID=America/Mexico_City:20250121T120000
DTSTAMP:20260421T155430
CREATED:20250114T193942Z
LAST-MODIFIED:20250114T193942Z
UID:96094-1737453600-1737460800@appleseedmexico.org
SUMMARY:Capacitación: Tratamiento de los Gastos e Ingresos de las Donatarias
DESCRIPTION:Brindado por Francisco Ortega y Ana Hernández de la firma legal Turanzas\, Bravo y Ambrosi \nA través de esta capacitación aprenderás: \n\nQué tratamiento dar a los donativos y cuotas de recuperación\nTips para identificar los gastos administrativos y operativos\nLímites de los ingresos y los gastos
URL:https://appleseedmexico.org/evento/capacitacion-tratamiento-de-los-gastos-e-ingresos-de-las-donatarias/
CATEGORIES:Capacitaciones,Webinar
END:VEVENT
BEGIN:VEVENT
DTSTART;TZID=America/Mexico_City:20250123T100000
DTEND;TZID=America/Mexico_City:20250123T113000
DTSTAMP:20260421T155430
CREATED:20250115T030300Z
LAST-MODIFIED:20250115T030300Z
UID:96099-1737626400-1737631800@appleseedmexico.org
SUMMARY:Capacitación: Juicio de Amparo para las OSC
DESCRIPTION:Brindado por el Carlos Guerrero de Derechos Humanos y Litigio Estratégico Mexicano\, A.C. \nA través de esta sesión aprenderás: *Qué necesita una OSC para iniciar un Juicio de Amparo *Cómo presentar un Juicio de Amparo e *Implicaciones de la Reforma Judicial
URL:https://appleseedmexico.org/evento/capacitacion-juicio-de-amparo-para-las-osc/
CATEGORIES:Capacitaciones,Webinar
END:VEVENT
BEGIN:VEVENT
DTSTART;VALUE=DATE:20250124
DTEND;VALUE=DATE:20250125
DTSTAMP:20260421T155430
CREATED:20250204T050111Z
LAST-MODIFIED:20250204T050111Z
UID:96115-1737676800-1737763199@appleseedmexico.org
SUMMARY:Informe Anual ante la Comisión de Fomento de las Actividades de las Organizaciones de la Sociedad Civil
DESCRIPTION:¡Recordatorio importante!\nFaltan 7 días para presentar el Informe Anual ante la Comisión de Fomento de las Actividades de las Organizaciones de la Sociedad Civil.\nNotas Relevantes: \n* Obligación para OSC inscritas al Registro Federal de las Organizaciones de la Sociedad Civil (CLUNI). \n* Todas las organizaciones inscritas deben presentar informe\, independientemente de si recibieron o no apoyos y estímulos públicos. \n* Esta obligación es independiente de los informes que se presentan ante el SAT y de los Reportes que solicitan otras instancias de gobierno que hubeiran entregado los apoyos. \nMás información: Ver Calendario Anual 2025   \n 
URL:https://appleseedmexico.org/evento/informe-anual-ante-la-comision-de-fomento-de-las-actividades-de-las-organizaciones-de-la-sociedad-civil-5/
CATEGORIES:Calendario Interactivo,Obligaciones para OSC con CLUNI,Calendario Fiscal
ATTACH;FMTTYPE=image/jpeg:https://appleseedmexico.org/wp-content/uploads/2024/01/obligaciones_portada_osccluni.jpg
END:VEVENT
BEGIN:VEVENT
DTSTART;TZID=America/Mexico_City:20250128T090000
DTEND;TZID=America/Mexico_City:20250128T103000
DTSTAMP:20260421T155430
CREATED:20250115T234453Z
LAST-MODIFIED:20250115T234453Z
UID:96102-1738054800-1738060200@appleseedmexico.org
SUMMARY:Capacitación: Actualización de Obligaciones Fiscales para Donatarias
DESCRIPTION:Sesión que será brindada por el equipo de Appleseed México A.C.
URL:https://appleseedmexico.org/evento/capacitacion-actualizacion-de-obligaciones-fiscales-para-donatarias/
CATEGORIES:Capacitaciones,Webinar
END:VEVENT
BEGIN:VEVENT
DTSTART;VALUE=DATE:20250131
DTEND;VALUE=DATE:20250201
DTSTAMP:20260421T155430
CREATED:20250204T050300Z
LAST-MODIFIED:20250204T050300Z
UID:96117-1738281600-1738367999@appleseedmexico.org
SUMMARY:Informe Anual ante la Comisión de Fomento de las Actividades de las Organizaciones de la Sociedad Civil
DESCRIPTION:¡Recordatorio importante!\nÚltimo día para presentar el Informe Anual ante la Comisión de Fomento de las Actividades de las Organizaciones de la Sociedad Civil.\nNotas Relevantes: \n* Obligación para OSC inscritas al Registro Federal de las Organizaciones de la Sociedad Civil (CLUNI). \n* Todas las organizaciones inscritas deben presentar informe\, independientemente de si recibieron o no apoyos y estímulos públicos. \n* Esta obligación es independiente de los informes que se presentan ante el SAT y de los Reportes que solicitan otras instancias de gobierno que hubeiran entregado los apoyos. \nMás información: Ver Calendario Anual 2025   \n 
URL:https://appleseedmexico.org/evento/informe-anual-ante-la-comision-de-fomento-de-las-actividades-de-las-organizaciones-de-la-sociedad-civil-6/
CATEGORIES:Calendario Interactivo,Obligaciones para OSC con CLUNI,Calendario Fiscal
ATTACH;FMTTYPE=image/jpeg:https://appleseedmexico.org/wp-content/uploads/2024/01/obligaciones_portada_osccluni.jpg
END:VEVENT
BEGIN:VEVENT
DTSTART;VALUE=DATE:20250131
DTEND;VALUE=DATE:20250201
DTSTAMP:20260421T155430
CREATED:20250204T050520Z
LAST-MODIFIED:20250204T050520Z
UID:96119-1738281600-1738367999@appleseedmexico.org
SUMMARY:Declaración Anual
DESCRIPTION:¡Recordatorio importante!\nFaltan 14 días para presentar la Declaración Anual (DIM).\nMás información: Ver Calendario Anual 2025   \n 
URL:https://appleseedmexico.org/evento/declaracion-anual-10/
CATEGORIES:Calendario Interactivo,Obligaciones Fiscales para OSC,Calendario Fiscal
ATTACH;FMTTYPE=image/jpeg:https://appleseedmexico.org/wp-content/uploads/2024/01/donatarias_autorizadas.jpg
END:VEVENT
BEGIN:VEVENT
DTSTART;VALUE=DATE:20250131
DTEND;VALUE=DATE:20250201
DTSTAMP:20260421T155430
CREATED:20250204T051012Z
LAST-MODIFIED:20250204T051135Z
UID:96125-1738281600-1738367999@appleseedmexico.org
SUMMARY:Declaración Informativa Múltiple (DIM)
DESCRIPTION:¡Recordatorio importante!\nFaltan 14 días para presentar la Declaración Informativa Múltiple (DIM).\nNotas Relevantes: \n* Las OSC únicamente deben presentar esta declaración por las retenciones de IVA e ISR efectuadas en el año anterior a personas que residen en el extranjero. (Anexo 4. Retenciones y pagos hechos a residentes en el extranjero). \nMás información: Ver Calendario Anual 2025   \n 
URL:https://appleseedmexico.org/evento/declaracion-informativa-multiple-dim-4/
CATEGORIES:Calendario Interactivo,Obligaciones Fiscales para OSC,Calendario Fiscal
ATTACH;FMTTYPE=image/jpeg:https://appleseedmexico.org/wp-content/uploads/2024/01/donatarias_autorizadas.jpg
END:VEVENT
END:VCALENDAR