BEGIN:VCALENDAR
VERSION:2.0
PRODID:-//Appleseed México - ECPv5.3.2.1//NONSGML v1.0//EN
CALSCALE:GREGORIAN
METHOD:PUBLISH
X-WR-CALNAME:Appleseed México
X-ORIGINAL-URL:https://appleseedmexico.org
X-WR-CALDESC:Eventos para Appleseed México
BEGIN:VTIMEZONE
TZID:America/Mexico_City
BEGIN:DAYLIGHT
TZOFFSETFROM:-0600
TZOFFSETTO:-0500
TZNAME:CDT
DTSTART:20240407T080000
END:DAYLIGHT
BEGIN:STANDARD
TZOFFSETFROM:-0500
TZOFFSETTO:-0600
TZNAME:CST
DTSTART:20241027T070000
END:STANDARD
END:VTIMEZONE
BEGIN:VEVENT
DTSTART;VALUE=DATE:20240527
DTEND;VALUE=DATE:20240528
DTSTAMP:20260421T231643
CREATED:20240126T022013Z
LAST-MODIFIED:20240126T022013Z
UID:95104-1716768000-1716854399@appleseedmexico.org
SUMMARY:Declaración Informativa de transparencia
DESCRIPTION:¡Recordatorio importante!\nTienes este mes para presentar tu Declaración Informativa de transparencia.\nMás información: Ver Calendario Anual 2024   \n 
URL:https://appleseedmexico.org/evento/declaracion-informativa-de-transparencia/2024-05-27/
CATEGORIES:Calendario Interactivo,Obligaciones Fiscales para OSC,Calendario Fiscal
ATTACH;FMTTYPE=image/jpeg:https://appleseedmexico.org/wp-content/uploads/2024/01/donatarias_autorizadas.jpg
END:VEVENT
BEGIN:VEVENT
DTSTART;TZID=America/Mexico_City:20240528T100000
DTEND;TZID=America/Mexico_City:20240528T120000
DTSTAMP:20260421T231643
CREATED:20240521T185543Z
LAST-MODIFIED:20240521T185543Z
UID:95443-1716890400-1716897600@appleseedmexico.org
SUMMARY:Capacitación: Resolviendo las principales dudas contables de las OSC
DESCRIPTION:Brindado por Juan Carlos Álvarez de MC Abogados y por y Rosario Martínez de Appleseed México.
URL:https://appleseedmexico.org/evento/capacitacion-resolviendo-las-principales-dudas-contables-de-las-osc/
CATEGORIES:Capacitaciones,Webinar
END:VEVENT
BEGIN:VEVENT
DTSTART;TZID=America/Mexico_City:20240606T160000
DTEND;TZID=America/Mexico_City:20240606T180000
DTSTAMP:20260421T231643
CREATED:20240604T181210Z
LAST-MODIFIED:20240604T181210Z
UID:95489-1717689600-1717696800@appleseedmexico.org
SUMMARY:Capacitación: Acreditación del Interés Legítimo de OSC en Juicios de Amparo
DESCRIPTION:Brindado por Hugo Hernández de la firma legal Greenberg Traurig
URL:https://appleseedmexico.org/evento/capacitacion-acreditacion-del-interes-legitimo-de-osc-en-juicios-de-amparo/
CATEGORIES:Capacitaciones,Webinar
END:VEVENT
BEGIN:VEVENT
DTSTART;TZID=America/Mexico_City:20240611T100000
DTEND;TZID=America/Mexico_City:20240611T130000
DTSTAMP:20260421T231643
CREATED:20240604T182925Z
LAST-MODIFIED:20240604T182925Z
UID:95492-1718100000-1718110800@appleseedmexico.org
SUMMARY:Capacitación: El Arte de Pedir
DESCRIPTION:Brindado por Rosa C. de Morales de YZ Proyectos
URL:https://appleseedmexico.org/evento/capacitacion-el-arte-de-pedir/
CATEGORIES:Capacitaciones,Webinar
END:VEVENT
BEGIN:VEVENT
DTSTART;VALUE=DATE:20240617
DTEND;VALUE=DATE:20240618
DTSTAMP:20260421T231643
CREATED:20240129T203846Z
LAST-MODIFIED:20240129T203846Z
UID:95120-1718582400-1718668799@appleseedmexico.org
SUMMARY:Retenciones de IVA e ISR
DESCRIPTION:¡Recordatorio importante!\nRetenciones de IVA e ISR\nMás información: Ver Calendario Anual 2024   \n 
URL:https://appleseedmexico.org/evento/retenciones-de-iva-e-isr/2024-06-17/
CATEGORIES:Obligaciones Permanentes,Calendario Interactivo,Calendario Fiscal
ATTACH;FMTTYPE=image/jpeg:https://appleseedmexico.org/wp-content/uploads/2024/01/obligacionespermanentes.jpg
END:VEVENT
BEGIN:VEVENT
DTSTART;VALUE=DATE:20240617
DTEND;VALUE=DATE:20240618
DTSTAMP:20260421T231643
CREATED:20240129T204536Z
LAST-MODIFIED:20240129T204536Z
UID:95137-1718582400-1718668799@appleseedmexico.org
SUMMARY:Enterar al SAT
DESCRIPTION:¡Recordatorio importante!\nEnterar al SAT de Retenciones de ISR por sueldos\, salarios y asimilados.\nMás información: Ver Calendario Anual 2024  
URL:https://appleseedmexico.org/evento/enterar-al-sat/2024-06-17/
CATEGORIES:Obligaciones Permanentes,Calendario Interactivo,Calendario Fiscal
ATTACH;FMTTYPE=image/jpeg:https://appleseedmexico.org/wp-content/uploads/2024/01/obligacionespermanentes.jpg
END:VEVENT
BEGIN:VEVENT
DTSTART;VALUE=DATE:20240617
DTEND;VALUE=DATE:20240618
DTSTAMP:20260421T231643
CREATED:20240202T012330Z
LAST-MODIFIED:20240202T012330Z
UID:95184-1718582400-1718668799@appleseedmexico.org
SUMMARY:Informe de Operaciones hechas con partes relacionadas
DESCRIPTION:¡Recordatorio importante!\nInforme de Operaciones hechas con partes relacionadas.\nMás información: Ver Calendario Anual 2024  
URL:https://appleseedmexico.org/evento/informe-de-operaciones-hechas-con-partes-relacionadas/2024-06-17/
CATEGORIES:Obligaciones Permanentes,Calendario Interactivo,Calendario Fiscal
ATTACH;FMTTYPE=image/jpeg:https://appleseedmexico.org/wp-content/uploads/2024/01/obligacionespermanentes.jpg
END:VEVENT
BEGIN:VEVENT
DTSTART;VALUE=DATE:20240617
DTEND;VALUE=DATE:20240618
DTSTAMP:20260421T231643
CREATED:20240202T012948Z
LAST-MODIFIED:20240202T012948Z
UID:95198-1718582400-1718668799@appleseedmexico.org
SUMMARY:Informar al SAT
DESCRIPTION:¡Recordatorio importante!\nDe donativos en efectivo o especie que superen más de 100 mil pesos.\nMás información: Ver Calendario Anual 2024  
URL:https://appleseedmexico.org/evento/informar-al-sat-2/2024-06-17/
CATEGORIES:Obligaciones Permanentes,Calendario Interactivo,Calendario Fiscal
ATTACH;FMTTYPE=image/jpeg:https://appleseedmexico.org/wp-content/uploads/2024/01/obligacionespermanentes.jpg
END:VEVENT
BEGIN:VEVENT
DTSTART;TZID=America/Mexico_City:20240618T100000
DTEND;TZID=America/Mexico_City:20240618T110000
DTSTAMP:20260421T231643
CREATED:20240604T184638Z
LAST-MODIFIED:20240604T184638Z
UID:95495-1718704800-1718708400@appleseedmexico.org
SUMMARY:Capacitación: Martes de Ecosistema Pro Bono: ¡Fortalece tu OSC en 60 Minutos!
DESCRIPTION:Brindado por el Ecosistema Pro Bono NL\, con la participación de la OSC – Contemos Juntos para responder a preguntas de Prevención de Lavado de Dinero.
URL:https://appleseedmexico.org/evento/capacitacion-martes-de-ecosistema-pro-bono-fortalece-tu-osc-en-60-minutos/
CATEGORIES:Capacitaciones,Webinar
END:VEVENT
BEGIN:VEVENT
DTSTART;TZID=America/Mexico_City:20240619T110000
DTEND;TZID=America/Mexico_City:20240619T130000
DTSTAMP:20260421T231643
CREATED:20240604T185231Z
LAST-MODIFIED:20240604T185231Z
UID:95498-1718794800-1718802000@appleseedmexico.org
SUMMARY:Capacitación: Protección de Datos y Avisos de Privacidad para OSC
DESCRIPTION:Brindado por José García Cabriales de la firma legal Anaya\, Díaz e Ibáñez
URL:https://appleseedmexico.org/evento/capacitacion-proteccion-de-datos-y-avisos-de-privacidad-para-osc/
CATEGORIES:Capacitaciones,Webinar
END:VEVENT
BEGIN:VEVENT
DTSTART;TZID=America/Mexico_City:20240702T100000
DTEND;TZID=America/Mexico_City:20240702T120000
DTSTAMP:20260421T231643
CREATED:20240624T185516Z
LAST-MODIFIED:20240624T185635Z
UID:95521-1719914400-1719921600@appleseedmexico.org
SUMMARY:Taller Práctico de Actas de Asamblea para OSC
DESCRIPTION:Brindado por Cecilia Cajiga Castillo de la firma legal Ritch\, Mueller y Nicolau\, S.C.
URL:https://appleseedmexico.org/evento/capacitacion-que-es-la-propiedad-intelectual-y-como-beneficia-a-mi-osc/
CATEGORIES:Capacitaciones,Webinar
END:VEVENT
END:VCALENDAR