BEGIN:VCALENDAR
VERSION:2.0
PRODID:-//Appleseed México - ECPv5.3.2.1//NONSGML v1.0//EN
CALSCALE:GREGORIAN
METHOD:PUBLISH
X-WR-CALNAME:Appleseed México
X-ORIGINAL-URL:https://appleseedmexico.org
X-WR-CALDESC:Eventos para Appleseed México
BEGIN:VTIMEZONE
TZID:America/Mexico_City
BEGIN:DAYLIGHT
TZOFFSETFROM:-0600
TZOFFSETTO:-0500
TZNAME:CDT
DTSTART:20230402T080000
END:DAYLIGHT
BEGIN:STANDARD
TZOFFSETFROM:-0500
TZOFFSETTO:-0600
TZNAME:CST
DTSTART:20231029T070000
END:STANDARD
END:VTIMEZONE
BEGIN:VEVENT
DTSTART;TZID=America/Mexico_City:20230830T100000
DTEND;TZID=America/Mexico_City:20230830T110000
DTSTAMP:20260425T080457
CREATED:20230824T200945Z
LAST-MODIFIED:20230824T200945Z
UID:93640-1693389600-1693393200@appleseedmexico.org
SUMMARY:Lanzamiento del Manual de lectura como interactivo de las Mejores Prácticas de Transparencia y Anticorrupción para las OSC
DESCRIPTION:
URL:https://appleseedmexico.org/evento/lanzamiento-del-manual-de-lectura-como-interactivo-de-las-mejores-practicas-de-transparencia-y-anticorrupcion-para-las-osc/
LOCATION:CEMEFI\, Cerrada de Salvador Alvarado 7 Col. Escandón 11800\, Alcaldía Miguel Hidalgo\, Ciudad de México\, Ciudad de México\, 11800\, México
CATEGORIES:Área de fortalecimiento,Capacitaciones,Español,Presencial,Institucional,Webinar,Legal
END:VEVENT
BEGIN:VEVENT
DTSTART;TZID=America/Mexico_City:20230905T100000
DTEND;TZID=America/Mexico_City:20230905T120000
DTSTAMP:20260425T080457
CREATED:20230824T230103Z
LAST-MODIFIED:20230829T155142Z
UID:93647-1693908000-1693915200@appleseedmexico.org
SUMMARY:Taller: Herencias con causa (mes del testamento)
DESCRIPTION:Brindado por Marianne Olivier\, Titular de la Notaría 08 de la CDMX y Greenberg Traurig
URL:https://appleseedmexico.org/evento/herencias/
CATEGORIES:Capacitaciones,Webinar
END:VEVENT
BEGIN:VEVENT
DTSTART;TZID=America/Mexico_City:20230919T100000
DTEND;TZID=America/Mexico_City:20230919T110000
DTSTAMP:20260425T080457
CREATED:20230915T155242Z
LAST-MODIFIED:20230915T155242Z
UID:93809-1695117600-1695121200@appleseedmexico.org
SUMMARY:Taller: Derecho Corporativo para OSC
DESCRIPTION:Taller brindado por \nJosé Luis Gutiérrez de la firma legal DLA Piper
URL:https://appleseedmexico.org/evento/taller-derecho-corporativo-para-osc/
CATEGORIES:Capacitaciones,Webinar
END:VEVENT
BEGIN:VEVENT
DTSTART;TZID=America/Mexico_City:20230921T100000
DTEND;TZID=America/Mexico_City:20230921T113000
DTSTAMP:20260425T080457
CREATED:20230915T155419Z
LAST-MODIFIED:20230915T155419Z
UID:93812-1695290400-1695295800@appleseedmexico.org
SUMMARY:Taller: Poderes para OSC
DESCRIPTION:Taller brindado por \nLuz María Tamés de la firma legal Sámano Abogados
URL:https://appleseedmexico.org/evento/taller-poderes-para-osc-3/
CATEGORIES:Capacitaciones,Webinar
END:VEVENT
BEGIN:VEVENT
DTSTART;TZID=America/Mexico_City:20230922T110000
DTEND;TZID=America/Mexico_City:20230922T140000
DTSTAMP:20260425T080457
CREATED:20230915T160657Z
LAST-MODIFIED:20230915T160657Z
UID:93815-1695380400-1695391200@appleseedmexico.org
SUMMARY:Encuentro para las OSC 2023 - Socio Formador en el TEC de Monterrey Campus Santa Fe
DESCRIPTION:Desde el Tecnológico de Monterrey Campus Santa Fe\, replicamos la invitación a una serie de charlas organizadas para todas las OSC\, además de participar en una serie de módulos de atención especializada.
URL:https://appleseedmexico.org/evento/encuentro-para-las-osc-2023-socio-formador-en-el-tec-de-monterrey-campus-santa-fe/
CATEGORIES:Legal,Área de fortalecimiento,Capacitaciones,Presencial
END:VEVENT
BEGIN:VEVENT
DTSTART;TZID=America/Mexico_City:20230926T100000
DTEND;TZID=America/Mexico_City:20230926T113000
DTSTAMP:20260425T080457
CREATED:20230915T160805Z
LAST-MODIFIED:20230915T160805Z
UID:93818-1695722400-1695727800@appleseedmexico.org
SUMMARY:Taller: Contratos de tecnología
DESCRIPTION:Taller brindado por \nTania Zúñiga y Pablo Miranda de la firma legal Sámano Abogados
URL:https://appleseedmexico.org/evento/taller-contratos-de-tecnologia/
CATEGORIES:Capacitaciones,Webinar
END:VEVENT
END:VCALENDAR