BEGIN:VCALENDAR
VERSION:2.0
PRODID:-//Appleseed México - ECPv5.3.2.1//NONSGML v1.0//EN
CALSCALE:GREGORIAN
METHOD:PUBLISH
X-WR-CALNAME:Appleseed México
X-ORIGINAL-URL:https://appleseedmexico.org
X-WR-CALDESC:Eventos para Appleseed México
BEGIN:VTIMEZONE
TZID:America/Mexico_City
BEGIN:DAYLIGHT
TZOFFSETFROM:-0600
TZOFFSETTO:-0500
TZNAME:CDT
DTSTART:20230402T080000
END:DAYLIGHT
BEGIN:STANDARD
TZOFFSETFROM:-0500
TZOFFSETTO:-0600
TZNAME:CST
DTSTART:20231029T070000
END:STANDARD
END:VTIMEZONE
BEGIN:VEVENT
DTSTART;TZID=America/Mexico_City:20230330T160000
DTEND;TZID=America/Mexico_City:20230330T180000
DTSTAMP:20260420T105850
CREATED:20230330T185457Z
LAST-MODIFIED:20230330T185457Z
UID:92679-1680192000-1680199200@appleseedmexico.org
SUMMARY:Taller virtual: CFDI 4.0
DESCRIPTION:Taller brindado por Oscar Chávez colaborador de la firma legal Chevez\, Ruiz\, Zamarripa.
URL:https://appleseedmexico.org/evento/taller-virtual-cfdi-4-0/
LOCATION:Appleseed México\, Ciudad de México\, México
CATEGORIES:Capacitaciones,Webinar,Fiscal,Legal
END:VEVENT
BEGIN:VEVENT
DTSTART;VALUE=DATE:20230331
DTEND;VALUE=DATE:20230401
DTSTAMP:20260420T105850
CREATED:20230314T165516Z
LAST-MODIFIED:20230331T014801Z
UID:92523-1680220800-1680307199@appleseedmexico.org
SUMMARY:Declaración Anual (No Donatarias Autorizadas)
DESCRIPTION:¡Recordatorio importante!\nÚltimo día para presentar Declaración Anual NO Donatarias Autorizadas.\nMás información: Ver Calendario Anual 2023   \n 
URL:https://appleseedmexico.org/evento/declaracion-anual-no-donatarias/
CATEGORIES:Obligaciones Fiscales para OSC,Calendario Fiscal,No Donatarias
ATTACH;FMTTYPE=image/jpeg:https://appleseedmexico.org/wp-content/uploads/2022/11/declareacionanual.jpg
END:VEVENT
BEGIN:VEVENT
DTSTART;TZID=America/Mexico_City:20230411T080000
DTEND;TZID=America/Mexico_City:20230411T170000
DTSTAMP:20260420T105850
CREATED:20230411T212746Z
LAST-MODIFIED:20230411T212746Z
UID:92920-1681200000-1681232400@appleseedmexico.org
SUMMARY:Taller virtual: Planeación Estratégica  para las OSC
DESCRIPTION:Este taller es brindado por el Instituto de Contadores Públicos de Nuevo León. Se suma a la iniciativa del Ecosistema Pro Bono de Nuevo León. Debe cada participante consultar el manual de usuario del ICPNL para el registro en línea.
URL:https://appleseedmexico.org/evento/taller-virtual-planeacion-estrategica-para-las-osc-2/
LOCATION:Monterrey
CATEGORIES:Capacitaciones,Webinar,Español,Institucional
END:VEVENT
BEGIN:VEVENT
DTSTART;TZID=America/Mexico_City:20230411T100000
DTEND;TZID=America/Mexico_City:20230411T120000
DTSTAMP:20260420T105850
CREATED:20230330T191104Z
LAST-MODIFIED:20230330T191104Z
UID:92682-1681207200-1681214400@appleseedmexico.org
SUMMARY:Taller virtual: Derecho Ambiental para OSC
DESCRIPTION:Taller brindado por Carolina Nogal y Marina Fernández Lozano colaboradoras de la firma legal: Basham Ringe y Correa S.C.
URL:https://appleseedmexico.org/evento/taller-virtual-derecho-ambiental-para-osc-2/
LOCATION:Appleseed México\, Ciudad de México\, México
CATEGORIES:Capacitaciones,Appleseed,Webinar,Sociedad Civil,Legal,Área de fortalecimiento
END:VEVENT
BEGIN:VEVENT
DTSTART;TZID=America/Mexico_City:20230417T100000
DTEND;TZID=America/Mexico_City:20230417T120000
DTSTAMP:20260420T105850
CREATED:20230411T212446Z
LAST-MODIFIED:20230411T212446Z
UID:92917-1681725600-1681732800@appleseedmexico.org
SUMMARY:Taller virtual: Actualizaciones sobre la Ley de impuesto sobre la Renta (ISR) y donatarias
DESCRIPTION:Brindado por Rocío Sánchez Arriola abogada de Hogan Lovells en colaboración con Fundación Grupo México. 
URL:https://appleseedmexico.org/evento/taller-virtual-actualizaciones-sobre-la-ley-de-impuesto-sobre-la-renta-isr-y-donatarias/
LOCATION:Appleseed México\, Ciudad de México\, México
CATEGORIES:Capacitaciones,Sociedad Civil,Webinar,Fiscal donataria autorizada,Español,Legal,Obligaciones legales de OSC
END:VEVENT
BEGIN:VEVENT
DTSTART;TZID=America/Mexico_City:20230420T100000
DTEND;TZID=America/Mexico_City:20230420T120000
DTSTAMP:20260420T105850
CREATED:20230330T191403Z
LAST-MODIFIED:20230330T191403Z
UID:92685-1681984800-1681992000@appleseedmexico.org
SUMMARY:Taller virtual: Planeación Estratégica  para las OSC
DESCRIPTION:Taller brindado por el Instituto de Contadores Públicos de Nuevo León. Appleseed se suma a convocar a través de la iniciativa del Ecosistema Pro Bono de Nuevo León. \n  \n 
URL:https://appleseedmexico.org/evento/taller-virtual-planeacion-estrategica-para-las-osc/
LOCATION:Nuevo Leon
END:VEVENT
BEGIN:VEVENT
DTSTART;TZID=America/Mexico_City:20230420T100000
DTEND;TZID=America/Mexico_City:20230420T140000
DTSTAMP:20260420T105850
CREATED:20230411T215109Z
LAST-MODIFIED:20230411T215109Z
UID:92924-1681984800-1681999200@appleseedmexico.org
SUMMARY:Cuatro talleres presenciales en Semana de las Buenas Acciones con Fundación Merced Coahuila
DESCRIPTION:Fortalecimiento legal:  \n\nCFDI 4.0\nIngresos y egresos\nObligaciones Fiscales para OSC\nRelaciones de Trabajo\n\nContactar para registro en siguiente correo: contacto@mercedcoahuila.org
URL:https://appleseedmexico.org/evento/cuatro-talleres-presenciales-en-semana-de-las-buenas-acciones-con-fundacion-merced-coahuila/
LOCATION:salon de documentacion del DIF Coahuila\, Paseo de las Arboledas S/N Col. Chapultepec\, Saltillos\, Coahuila\, Mexico
CATEGORIES:Capacitaciones,Contable,Presencial,Español,Otros temas,Appleseed,Legal,Sociedad Civil
END:VEVENT
BEGIN:VEVENT
DTSTART;TZID=America/Mexico_City:20230427T100000
DTEND;TZID=America/Mexico_City:20230427T120000
DTSTAMP:20260420T105850
CREATED:20230412T003902Z
LAST-MODIFIED:20230412T003902Z
UID:92929-1682589600-1682596800@appleseedmexico.org
SUMMARY:Taller virtual: Gobierno Corporativo  para las OSC
DESCRIPTION:Taller que será brindado por el Instituto de Contadores Públicos de Nuevo León. Este taller se suma desde la iniciativa del Ecosistema Pro Bono de Nuevo León. Registrarse en el siguiente link: https://icpnl.org.mx/eventos-14/
URL:https://appleseedmexico.org/evento/taller-virtual-gobierno-corporativo-para-las-osc/
CATEGORIES:Capacitaciones,Webinar
END:VEVENT
END:VCALENDAR