BEGIN:VCALENDAR
VERSION:2.0
PRODID:-//Appleseed México - ECPv5.3.2.1//NONSGML v1.0//EN
CALSCALE:GREGORIAN
METHOD:PUBLISH
X-WR-CALNAME:Appleseed México
X-ORIGINAL-URL:https://appleseedmexico.org
X-WR-CALDESC:Eventos para Appleseed México
BEGIN:VTIMEZONE
TZID:America/Mexico_City
BEGIN:DAYLIGHT
TZOFFSETFROM:-0600
TZOFFSETTO:-0500
TZNAME:CDT
DTSTART:20250406T080000
END:DAYLIGHT
BEGIN:STANDARD
TZOFFSETFROM:-0500
TZOFFSETTO:-0600
TZNAME:CST
DTSTART:20251026T070000
END:STANDARD
END:VTIMEZONE
BEGIN:VEVENT
DTSTART;TZID=America/Mexico_City:20250923T100000
DTEND;TZID=America/Mexico_City:20250923T110000
DTSTAMP:20260421T030225
CREATED:20250902T231623Z
LAST-MODIFIED:20250902T231623Z
UID:96653-1758621600-1758625200@appleseedmexico.org
SUMMARY:Sesión - Martes del Ecosistema Pro Bono - Reglamento interno de trabajo
DESCRIPTION:Brindad por Alma Díaz de Greenberg Traurig
URL:https://appleseedmexico.org/evento/sesion-martes-del-ecosistema-pro-bono-reglamento-interno-de-trabajo/
CATEGORIES:Capacitaciones,Webinar
END:VEVENT
END:VCALENDAR