BEGIN:VCALENDAR
VERSION:2.0
PRODID:-//Appleseed México - ECPv5.3.2.1//NONSGML v1.0//EN
CALSCALE:GREGORIAN
METHOD:PUBLISH
X-WR-CALNAME:Appleseed México
X-ORIGINAL-URL:https://appleseedmexico.org
X-WR-CALDESC:Eventos para Appleseed México
BEGIN:VTIMEZONE
TZID:America/Mexico_City
BEGIN:DAYLIGHT
TZOFFSETFROM:-0600
TZOFFSETTO:-0500
TZNAME:CDT
DTSTART:20230402T080000
END:DAYLIGHT
BEGIN:STANDARD
TZOFFSETFROM:-0500
TZOFFSETTO:-0600
TZNAME:CST
DTSTART:20231029T070000
END:STANDARD
END:VTIMEZONE
BEGIN:VEVENT
DTSTART;VALUE=DATE:20230117
DTEND;VALUE=DATE:20230118
DTSTAMP:20260421T062747
CREATED:20230309T061653Z
LAST-MODIFIED:20230404T010750Z
UID:92399-1673913600-1673999999@appleseedmexico.org
SUMMARY:Informe de operaciones hechas con partes relacionadas
DESCRIPTION:Último día para presentar Informe de operaciones hechas con partes relacionadas. \nMás información: Ver Calendario Anual 2023   \n 
URL:https://appleseedmexico.org/evento/informar-al-sat-de-donativos/2023-01-17/
CATEGORIES:No Donatarias,Obligaciones Fiscales para OSC,Donatarias Autorizadas,Calendario Fiscal
ATTACH;FMTTYPE=image/jpeg:https://appleseedmexico.org/wp-content/uploads/2023/03/taxes.jpg
END:VEVENT
END:VCALENDAR