BEGIN:VCALENDAR
VERSION:2.0
PRODID:-//Appleseed México - ECPv5.3.2.1//NONSGML v1.0//EN
CALSCALE:GREGORIAN
METHOD:PUBLISH
X-WR-CALNAME:Appleseed México
X-ORIGINAL-URL:https://appleseedmexico.org
X-WR-CALDESC:Eventos para Appleseed México
BEGIN:VTIMEZONE
TZID:America/Mexico_City
BEGIN:DAYLIGHT
TZOFFSETFROM:-0600
TZOFFSETTO:-0500
TZNAME:CDT
DTSTART:20230402T080000
END:DAYLIGHT
BEGIN:STANDARD
TZOFFSETFROM:-0500
TZOFFSETTO:-0600
TZNAME:CST
DTSTART:20231029T070000
END:STANDARD
END:VTIMEZONE
BEGIN:VEVENT
DTSTART;VALUE=DATE:20230524
DTEND;VALUE=DATE:20230525
DTSTAMP:20260421T025634
CREATED:20230331T020649Z
LAST-MODIFIED:20230331T020649Z
UID:92759-1684886400-1684972799@appleseedmexico.org
SUMMARY:Declaración Informativa para garantizar la transparencia.
DESCRIPTION:¡Recordatorio importante!\nFaltan 7 días para presentar la Declaración Informativa para garantizar la transparencia\, así como el uso y destino de los donativos recibidos y actividades destinadas a inuir en la legislación.\nNotas Relevantes: \n* En caso de cancelación\, suspensión de actividades\, revocación o pérdida de vigencia de la donataria o cancelación de RFC por cambio de residencia. El plazo de presentación es: Dentro del mes siguiente al día en que surta efectos la notificación del oficio del SAT. \nMás información: Ver Calendario Anual 2023   \n 
URL:https://appleseedmexico.org/evento/declaracion-informativa-para-garantizar-la-transparencia-24-05-2023/
CATEGORIES:No Donatarias,Obligaciones Fiscales para OSC,Calendario Fiscal
ATTACH;FMTTYPE=image/jpeg:https://appleseedmexico.org/wp-content/uploads/2022/11/transparentinfor.jpg
END:VEVENT
END:VCALENDAR