BEGIN:VCALENDAR
VERSION:2.0
PRODID:-//Appleseed México - ECPv5.3.2.1//NONSGML v1.0//EN
CALSCALE:GREGORIAN
METHOD:PUBLISH
X-WR-CALNAME:Appleseed México
X-ORIGINAL-URL:https://appleseedmexico.org
X-WR-CALDESC:Eventos para Appleseed México
BEGIN:VTIMEZONE
TZID:America/Mexico_City
BEGIN:DAYLIGHT
TZOFFSETFROM:-0600
TZOFFSETTO:-0500
TZNAME:CDT
DTSTART:20250406T080000
END:DAYLIGHT
BEGIN:STANDARD
TZOFFSETFROM:-0500
TZOFFSETTO:-0600
TZNAME:CST
DTSTART:20251026T070000
END:STANDARD
END:VTIMEZONE
BEGIN:VEVENT
DTSTART;TZID=America/Mexico_City:20250904T100000
DTEND;TZID=America/Mexico_City:20250904T120000
DTSTAMP:20260421T052010
CREATED:20250901T193342Z
LAST-MODIFIED:20250901T193342Z
UID:96628-1756980000-1756987200@appleseedmexico.org
SUMMARY:Capacitación - Norma de los Donativos recibidos y de los Estados Financieros para Donatarias Autorizadas
DESCRIPTION:Brindado por C.P. Juan Carlos Álvarez\, en co-convocatoria con Fundación Dibujando un Mañana. 
URL:https://appleseedmexico.org/evento/capacitacion-norma-de-los-donativos-recibidos-y-de-los-estados-financieros-para-donatarias-autorizadas/
CATEGORIES:Capacitaciones,Webinar
END:VEVENT
END:VCALENDAR