BEGIN:VCALENDAR
VERSION:2.0
PRODID:-//Appleseed México - ECPv5.3.2.1//NONSGML v1.0//EN
CALSCALE:GREGORIAN
METHOD:PUBLISH
X-WR-CALNAME:Appleseed México
X-ORIGINAL-URL:https://appleseedmexico.org
X-WR-CALDESC:Eventos para Appleseed México
BEGIN:VTIMEZONE
TZID:America/Mexico_City
BEGIN:DAYLIGHT
TZOFFSETFROM:-0600
TZOFFSETTO:-0500
TZNAME:CDT
DTSTART:20230402T080000
END:DAYLIGHT
BEGIN:STANDARD
TZOFFSETFROM:-0500
TZOFFSETTO:-0600
TZNAME:CST
DTSTART:20231029T070000
END:STANDARD
END:VTIMEZONE
BEGIN:VEVENT
DTSTART;VALUE=DATE:20230117
DTEND;VALUE=DATE:20230118
DTSTAMP:20260421T075334
CREATED:20230118T012400Z
LAST-MODIFIED:20230202T004629Z
UID:90063-1673913600-1673999999@appleseedmexico.org
SUMMARY:Aviso de donativos superiores a 3\,210 UMA en Prevención de Lavado de Dinero.
DESCRIPTION:A más tardar el día 17 del mes posterior a la recepción del donativo.
URL:https://appleseedmexico.org/evento/aviso-de-donativos-superiores-a-3210-uma-en-prevencion-de-lavado-de-dinero/2023-01-17/
CATEGORIES:Obligaciones en Prevención de Lavado de Dinero para OSC,Calendario Fiscal
ATTACH;FMTTYPE=image/jpeg:https://appleseedmexico.org/wp-content/uploads/2021/02/obligaciones-lavado.jpg
END:VEVENT
END:VCALENDAR